BEGIN:VCALENDAR
VERSION:2.0
CALSCALE:GREGORIAN
PRODID:adamgibbons/ics
METHOD:PUBLISH
X-PUBLISHED-TTL:PT1H
BEGIN:VEVENT
UID:324@mlg.convoca.la
SUMMARY:Café Feminista: Crisis climática
DTSTAMP:20260425T145709Z
DTSTART:20260425T160000Z
DESCRIPTION:Los seres humanos somos ecodependientes\, y aunque todos sufrim
	os las\nconsecuencias del agotamiento de los recursos y el aumento de la t
	emperatura\nglobal\, no todos lo hacemos por igual.\n\nSon las mujeres\, e
	specialmente aquellas que habitan territorios castigados por\nel coloniali
	smo\, quienes experimentan las consecuencias de forma más cruda.\nExiste u
	na conexión entre la explotación y degradación del mundo natural y la\ndom
	inación patriarcal.\n\nEl cambio climático no es solo un fenómeno ambienta
	l\, es una amenaza directa al\nsustento y supervivencia de las mujeres\, y
	 el discurso oficial alrededor de la\ncrisis climática en raros casos tien
	e esto en cuenta.\n\nEste sábado nos juntamos para exponer estas diferenci
	as estructurales y crear\nconversación sobre la necesidad de una acción cl
	imática inclusiva y transgresora\nque nos ayude a tejer redes de resistenc
	ia.
URL:https://mlg.convoca.la/event/cafe-feminista-crisis-climatica
GEO:36.7228145;-4.4226908
LOCATION:La Casa Invisible - Entrada Patio - Calle Andrés Pérez\, 8 Málaga
STATUS:CONFIRMED
CATEGORIES:
X-ALT-DESC;FMTTYPE=text/html:<p>Los seres humanos somos ecodependientes, y 
	aunque todos sufrimos las consecuencias del agotamiento de los recursos y 
	el aumento de la temperatura global, no todos lo hacemos por igual.</p><p>
	Son las mujeres, especialmente aquellas que habitan territorios castigados
	 por el colonialismo, quienes experimentan las consecuencias de forma más 
	cruda. Existe una conexión entre la explotación y degradación del mundo na
	tural y la dominación patriarcal.</p><p>El cambio climático no es solo un 
	fenómeno ambiental, es una amenaza directa al sustento y supervivencia de 
	las mujeres, y el discurso oficial alrededor de la crisis climática en rar
	os casos tiene esto en cuenta.</p><p>Este sábado nos juntamos para exponer
	 estas diferencias estructurales y crear conversación sobre la necesidad d
	e una acción climática inclusiva y transgresora que nos ayude a tejer rede
	s de resistencia.</p>
BEGIN:VALARM
ACTION:DISPLAY
DESCRIPTION:Café Feminista: Crisis climática
TRIGGER:-PT1H
END:VALARM
END:VEVENT
END:VCALENDAR
