BEGIN:VCALENDAR
VERSION:2.0
CALSCALE:GREGORIAN
PRODID:adamgibbons/ics
METHOD:PUBLISH
X-PUBLISHED-TTL:PT1H
BEGIN:VEVENT
UID:321@mlg.convoca.la
SUMMARY:Concentración en el hotel NH en apoyo a las compañeras de la Secció
	n Sindical de NH Hoteles en Barcelona
DTSTAMP:20260423T033629Z
DTSTART:20260424T160000Z
DTEND:20260424T180000Z
URL:https://mlg.convoca.la/event/concentracion-en-el-hotel-nh-en-apoyo-a-la
	s-companeras-de-la-seccion-sindical-de-nh-hoteles-en-barcelona
LOCATION:Hotel NH - Calle San Jacinto\, 2
STATUS:CONFIRMED
CATEGORIES:sindicalismo
BEGIN:VALARM
ACTION:DISPLAY
DESCRIPTION:Concentración en el hotel NH en apoyo a las compañeras de la Se
	cción Sindical de NH Hoteles en Barcelona
TRIGGER:-PT1H
END:VALARM
END:VEVENT
END:VCALENDAR
